BEGIN:VCALENDAR
VERSION:2.0
PRODID:-//Warren House Hotel - ECPv6.15.20//NONSGML v1.0//EN
CALSCALE:GREGORIAN
METHOD:PUBLISH
X-ORIGINAL-URL:https://www.warrenhouse.com
X-WR-CALDESC:Events for Warren House Hotel
REFRESH-INTERVAL;VALUE=DURATION:PT1H
X-Robots-Tag:noindex
X-PUBLISHED-TTL:PT1H
BEGIN:VTIMEZONE
TZID:Europe/London
BEGIN:DAYLIGHT
TZOFFSETFROM:+0000
TZOFFSETTO:+0100
TZNAME:BST
DTSTART:20250330T010000
END:DAYLIGHT
BEGIN:STANDARD
TZOFFSETFROM:+0100
TZOFFSETTO:+0000
TZNAME:GMT
DTSTART:20251026T010000
END:STANDARD
BEGIN:DAYLIGHT
TZOFFSETFROM:+0000
TZOFFSETTO:+0100
TZNAME:BST
DTSTART:20260329T010000
END:DAYLIGHT
BEGIN:STANDARD
TZOFFSETFROM:+0100
TZOFFSETTO:+0000
TZNAME:GMT
DTSTART:20261025T010000
END:STANDARD
BEGIN:DAYLIGHT
TZOFFSETFROM:+0000
TZOFFSETTO:+0100
TZNAME:BST
DTSTART:20270328T010000
END:DAYLIGHT
BEGIN:STANDARD
TZOFFSETFROM:+0100
TZOFFSETTO:+0000
TZNAME:GMT
DTSTART:20271031T010000
END:STANDARD
END:VTIMEZONE
BEGIN:VEVENT
DTSTART;TZID=Europe/London:20260305T200000
DTEND;TZID=Europe/London:20260305T220000
DTSTAMP:20260423T204411
CREATED:20260305T114432Z
LAST-MODIFIED:20260305T114432Z
UID:13839-1772740800-1772748000@www.warrenhouse.com
SUMMARY:Mr. & Mrs Smith
DESCRIPTION:Mr. & Mrs. Smith
URL:https://www.warrenhouse.com/event/mr-mrs-smith-3/
CATEGORIES:Couple
ATTACH;FMTTYPE=image/jpeg:https://www.warrenhouse.com/app/uploads/2026/01/mr-mrs-smith.jpg
END:VEVENT
BEGIN:VEVENT
DTSTART;TZID=Europe/London:20260323T190000
DTEND;TZID=Europe/London:20260323T210000
DTSTAMP:20260423T204411
CREATED:20260324T111912Z
LAST-MODIFIED:20260324T111912Z
UID:14019-1774292400-1774299600@www.warrenhouse.com
SUMMARY:Bridget Jones's Diary
DESCRIPTION:
URL:https://www.warrenhouse.com/event/bridget-joness-diary-2/
CATEGORIES:Couple
ATTACH;FMTTYPE=image/jpeg:https://www.warrenhouse.com/app/uploads/2026/01/bridget-joness-diary.jpg
END:VEVENT
BEGIN:VEVENT
DTSTART;TZID=Europe/London:20260331T190000
DTEND;TZID=Europe/London:20260331T210000
DTSTAMP:20260423T204411
CREATED:20260330T141336Z
LAST-MODIFIED:20260330T141336Z
UID:14076-1774983600-1774990800@www.warrenhouse.com
SUMMARY:Bridget Jones's Diary
DESCRIPTION:
URL:https://www.warrenhouse.com/event/bridget-joness-diary-3/
CATEGORIES:Couple
ATTACH;FMTTYPE=image/jpeg:https://www.warrenhouse.com/app/uploads/2026/01/bridget-joness-diary.jpg
END:VEVENT
END:VCALENDAR